BEGIN:VCALENDAR
PRODID:-//eluceo/ical//2.0/EN
VERSION:2.0
CALSCALE:GREGORIAN
BEGIN:VEVENT
UID:f3f40e9e5bde6599d603bcc5ed9eea22
DTSTAMP:20260421T105504Z
SUMMARY:1:30 PM A Taste of Kids Passover Online
DESCRIPTION:Jewish Federation of Greater New Haven\nCommunity Calendar\nhtt
 ps://jewishnewhaven.org/eventlist/100-pm-a-taste-of-kids-passover-online-3
 47814\n\nJoin us virtually for this FREE Taste of Story and Songs for Pass
 over with Stacey Battat and Sam Forman.\n\nPre-register for our live Zoom 
 meeting here: https://zoom.us/meeting/register/vJErceyorzssP5UywD8lGAY_98
 1Cdg0EKQ\n\n \n\n\n\nSunday\, March 29 | 1-1:30 PM\n\nJoin us virtually f
 or this FREE Taste of Story and Songs for Passover with Stacey Battat and 
 Sam Forman.
DTSTART;TZID=America/New_York:20200329T133000
DTEND;TZID=America/New_York:20200329T141500
END:VEVENT
END:VCALENDAR
