BEGIN:VCALENDAR
PRODID:-//eluceo/ical//2.0/EN
VERSION:2.0
CALSCALE:GREGORIAN
BEGIN:VEVENT
UID:570d30d04ff7e4c73ae0abdbb96c5c39
DTSTAMP:20260421T093125Z
SUMMARY:12 PM Superpowers of the Middle East and Their Impact on Israel
DESCRIPTION:Jewish Federation of Greater New Haven\nCommunity Calendar\nhtt
 ps://jewishnewhaven.org/eventlist/12-pm-current-events-a-briefing-on-the-m
 iddle-east-358688\n\nA Briefing on the Middle East with Avi Melamed\, Foun
 der and CEO of Inside the Middle East: Intelligence Perspectives.\n\nPleas
 e join us for the final webinar in a series of three with Middle East expe
 rt Avi Melamed. Avi will provide an update on\, and professional analysis 
 of\, the political visions and recent actions of Iran and Turkey\, and he'
 ll explain how their attempt to attain superpower status could impact the 
 State of Israel and the Israeli-Palestinian conflict. 30-minute presentati
 on f...
DTSTART;TZID=America/New_York:20200727T120000
DTEND;TZID=America/New_York:20200727T130000
END:VEVENT
END:VCALENDAR
