BEGIN:VCALENDAR
PRODID:-//eluceo/ical//2.0/EN
VERSION:2.0
CALSCALE:GREGORIAN
BEGIN:VEVENT
UID:5414586dce690198309951c3818f5851
DTSTAMP:20260421T123723Z
SUMMARY:2nd Annual Pride Shabbat Service at Temple Emanuel
DESCRIPTION:Jewish Federation of Greater New Haven\nCommunity Calendar\nhtt
 ps://jewishnewhaven.org/eventlist/2nd-annual-pride-shabbat-service-at-temp
 le-emanuel-1747758104\n\nPlease join us on Friday evening\, June 13 at 7:3
 0 pm for Temple Emanuel’s second annual Pride Shabbat service. This lay-
 led service explores new readings\, gender neutral prayers and new ways of
  conceptualizing worship while still maintaining our respect for tradition
 .Please come to welcome Shabbat and support Temple Emanuel’s effort to b
 roaden our efforts at diversity\, equity\, and inclusion. All members of t
 he community are welcome.
DTSTART;TZID=America/New_York:20250613T193000
DTEND;TZID=America/New_York:20250613T203000
END:VEVENT
END:VCALENDAR
