BEGIN:VCALENDAR
PRODID:-//eluceo/ical//2.0/EN
VERSION:2.0
CALSCALE:GREGORIAN
BEGIN:VEVENT
UID:5fac4d77672ff23bf633b31c67b489d0
DTSTAMP:20260421T105348Z
SUMMARY:7 PM  Celebrate Israel’s independence with jHaven!
DESCRIPTION:Jewish Federation of Greater New Haven\nCommunity Calendar\nhtt
 ps://jewishnewhaven.org/eventlist/7-pm-celebrate-israels-independence-with
 -jhaven-350317\n\nRegister in advance for this meeting.\n\nShow off your s
 marts about Israeli culture and history from the comfort of your home. The
  game will consist of ten questions that can be answered from your smartph
 one\, tablet or laptop\, and should take just under an hour.\n\nBring your
  own beverages (and snacks\, dog\, couch\, etc.) and let’s play!
DTSTART;TZID=America/New_York:20200430T190000
DTEND;TZID=America/New_York:20200430T200000
END:VEVENT
END:VCALENDAR
