BEGIN:VCALENDAR
PRODID:-//eluceo/ical//2.0/EN
VERSION:2.0
CALSCALE:GREGORIAN
BEGIN:VEVENT
UID:4d717162ceeee9e2ec42eb784d5ed4e7
DTSTAMP:20260419T161750Z
SUMMARY:7 PM Humor with Joyce in the Time of Pandemic
DESCRIPTION:Jewish Federation of Greater New Haven\nCommunity Calendar\nhtt
 ps://jewishnewhaven.org/eventlist/7-pm-humor-with-joyce-in-the-time-of-pan
 demic-349696\n\nRegister here. After registering\, you will receive a con
 firmation email containing information about joining the meeting.\n\nJoyce
  Saltman is a highly sought after humorist.  She finds the humor in every
 day life and collects jokes.  Joyce is a master at timing her delivery fo
 r maximum humor.  Her presentations are not to be missed.
DTSTART;TZID=America/New_York:20200511T190000
DTEND;TZID=America/New_York:20200511T194500
END:VEVENT
END:VCALENDAR
