BEGIN:VCALENDAR
PRODID:-//eluceo/ical//2.0/EN
VERSION:2.0
CALSCALE:GREGORIAN
BEGIN:VEVENT
UID:804f1e10fec6b5e31502d0cf0ee187c1
DTSTAMP:20260419T121527Z
SUMMARY:A JEDI Sukkot
DESCRIPTION:Jewish Federation of Greater New Haven\nCommunity Calendar\nhtt
 ps://jewishnewhaven.org/eventlist/a-jedi-sukkot\n\nThe great rabbi Maimoni
 des wrote that it would be fitting for the entire Jewish people to dwell i
 n one Sukkah. While the logistics of this are complicated\, we are going t
 o try our best to live out this vision of Sukkot.\n\nOn Thursday\, October
  5th we will be holding our first community-wide Sukkot celebration as par
 t of the Jewish Federation of Greater New Haven's "J.E.D.I" (Jewish Equity
 \, Diversity and Inclusion) initiative. In partnership with PJ Library\, J
 ewish Family Services and synagogu...
DTSTART;TZID=America/New_York:20231005T170000
DTEND;TZID=America/New_York:20231005T183000
END:VEVENT
END:VCALENDAR
