BEGIN:VCALENDAR
PRODID:-//eluceo/ical//2.0/EN
VERSION:2.0
CALSCALE:GREGORIAN
BEGIN:VEVENT
UID:50ee32a83efeaea2a028a9a5a1cd1ed5
DTSTAMP:20260421T091529Z
SUMMARY:A Jew Grows in Brooklyn by Jake Ehrenreich
DESCRIPTION:Jewish Federation of Greater New Haven\nCommunity Calendar\nhtt
 ps://jewishnewhaven.org/eventlist/a-jew-grows-in-brooklyn-by-jake-ehrenrei
 ch\n\n“Dazzling…Funny…Touching…Beautiful! You don’t have to be J
 ewish or Brooklynish…a lot in common with Billy Crystal’s 700 Sundays
 ” - New York Times\n\nJake Ehrenreich’s "A Jew Grows in Brooklyn" is a
  Broadway hit comedy musical about the search for identity and meaning. It
  chronicles the life of one man\; a uniquely talented American born of Hol
 ocaust survivors. Through stories\, comedy and music\, performed with a li
 ve band and multi-media video and photos\, Jake mesmerizingly...
DTSTART;TZID=America/New_York:20141025T193000
DTEND;TZID=America/New_York:20141025T223000
END:VEVENT
END:VCALENDAR
