BEGIN:VCALENDAR
PRODID:-//eluceo/ical//2.0/EN
VERSION:2.0
CALSCALE:GREGORIAN
BEGIN:VEVENT
UID:78e6b752dd3af0788cfdf8f9418b2c46
DTSTAMP:20260420T062554Z
SUMMARY:A Look at Childhood Over Time and Cultures with Dr. Rosalind Atkins
DESCRIPTION:Jewish Federation of Greater New Haven\nCommunity Calendar\nhtt
 ps://jewishnewhaven.org/eventlist/a-look-at-childhood-over-time-and-cultur
 es-with-dr-rosalind-atkins-1764608829\n\nWhile children are a relatively u
 nchanging fact of life\, childhood is a constantly shifting concept. Child
  Psychologist\, Roz Atkins views historical perspectives on childhood and 
 reflects on the extent to which theories and practices are universal or ba
 sed in particular times and cultures.
DTSTART;TZID=America/New_York:20251213T130000
DTEND;TZID=America/New_York:20251213T140000
END:VEVENT
END:VCALENDAR
