BEGIN:VCALENDAR
PRODID:-//eluceo/ical//2.0/EN
VERSION:2.0
CALSCALE:GREGORIAN
BEGIN:VEVENT
UID:8e941684b5e47bfdce98e52d1b0b3df9
DTSTAMP:20260420T115628Z
SUMMARY:Amistad Academy Orchestra Concert
DESCRIPTION:Jewish Federation of Greater New Haven\nCommunity Calendar\nhtt
 ps://jewishnewhaven.org/eventlist/amistad-academy-orchestra-concert-1023-2
 04194\n\nAmistad Academy Middle School Orchestra will perform custom arra
 ngements for the following songs:\n\n\n         I Will Survive\n 
         Ladies Night\n         Stand By Me\n       
   Play That Funky Music Thriller
DTSTART;TZID=America/New_York:20161023T110000
DTEND;TZID=America/New_York:20161023T130000
END:VEVENT
END:VCALENDAR
