BEGIN:VCALENDAR
PRODID:-//eluceo/ical//2.0/EN
VERSION:2.0
CALSCALE:GREGORIAN
BEGIN:VEVENT
UID:7e488469d94e53a0751a64832b5bff9e
DTSTAMP:20260419T151418Z
SUMMARY:An Island In Time Women's Retreat
DESCRIPTION:Jewish Federation of Greater New Haven\nCommunity Calendar\nhtt
 ps://jewishnewhaven.org/eventlist/an-island-in-time-womens-retreat-1434053
 409\n\nRelax\, renew and rejuvenate at An Island in Time\; Retreat for Wom
 en November 13-15\, 2015 at the newly renovated Heritage Hotel in Southbur
 y. Our guest speaker is award winning author\, Laya Saul.\n\n$200 plus hot
 el room\n\nFor more information email jwc@chabadow.org
DTSTART;TZID=America/New_York:20151113T000000
DTEND;TZID=America/New_York:20151115T000000
END:VEVENT
END:VCALENDAR
