BEGIN:VCALENDAR
PRODID:-//eluceo/ical//2.0/EN
VERSION:2.0
CALSCALE:GREGORIAN
BEGIN:VEVENT
UID:70c4557a58af1e98d46223b4c01a75f1
DTSTAMP:20260421T091521Z
SUMMARY:Atlanta Author Series:  Tovah Feldshuh
DESCRIPTION:Jewish Federation of Greater New Haven\nCommunity Calendar\nhtt
 ps://jewishnewhaven.org/eventlist/atlanta-author-series-tovah-feldshuh-372
 887\n\nRegister in advance. Join us for a discussion with Tovah Feldshuh\,
  on her latest book: Lillyville: Mother\, Daughter\, and the Other Roles I
 've Played. In Conversation with Holly Firfer\, CNN Correspondent.\n\nIcon
 ic Broadway performer and four-time Tony\, two-time Emmy nominee Tovah Fel
 dshuh presents Lilyville\, a heartwarming and hilarious memoir exploring t
 he mother-daughter relationship that challenged shifting socio-cultural ex
 pectations of women and shaped a magnificent career.\n\nCalling To...
DTSTART;TZID=America/New_York:20210415T200000
DTEND;TZID=America/New_York:20210415T210000
END:VEVENT
END:VCALENDAR
