BEGIN:VCALENDAR
PRODID:-//eluceo/ical//2.0/EN
VERSION:2.0
CALSCALE:GREGORIAN
BEGIN:VEVENT
UID:153a6b9a2489f3f43bd50e90e9b724bc
DTSTAMP:20260421T093046Z
SUMMARY:Back to Basics Cooking Class
DESCRIPTION:Jewish Federation of Greater New Haven\nCommunity Calendar\nhtt
 ps://jewishnewhaven.org/eventlist/back-to-basics-cooking-class-1532033227-
 278578\n\nLearn how to make summer staples with farm fresh ingredients! In
 structor Eddy Anderson will guide novice cooks through a three course meal
  starting with salad and homade croutons\, fresh pesto pasta\, and shortca
 ke for dessert.\n\nJCC Members: $20 / General Public: $45\n\nRSVP: jccnh.o
 rg/rsvp
DTSTART;TZID=America/New_York:20180809T190000
DTEND;TZID=America/New_York:20180809T210000
END:VEVENT
END:VCALENDAR
