BEGIN:VCALENDAR
PRODID:-//eluceo/ical//2.0/EN
VERSION:2.0
CALSCALE:GREGORIAN
BEGIN:VEVENT
UID:176ecab645292ff62eb4c24edf574d59
DTSTAMP:20260421T105317Z
SUMMARY:Words to Action: Empowering Students to Address Anti-Semitism and B
 DS
DESCRIPTION:Jewish Federation of Greater New Haven\nCommunity Calendar\nhtt
 ps://jewishnewhaven.org/eventlist/bds-and-anti-semitism-on-campus-15689334
 34\n\nJewish students\, parents\, and grandparents\,\n\nWe invite you to j
 oin ADL\, JTE and The Jewish Federation at this interactive workshop to le
 arn about anti-Semitism and anti-Israel bias on campus. Increase your unde
 rstanding\, explore effective resources and learn how to strategically res
 pond. \n\n\nADL is a 100+ year-old global anti-hate organization founded 
 to protect the Jewish people that relentlessly fights the escalation of al
 l forms of hate\, in every community\, to secure justice and fair ...
DTSTART;TZID=America/New_York:20200107T190000
DTEND;TZID=America/New_York:20200107T203000
END:VEVENT
END:VCALENDAR
