BEGIN:VCALENDAR
PRODID:-//eluceo/ical//2.0/EN
VERSION:2.0
CALSCALE:GREGORIAN
BEGIN:VEVENT
UID:34e86b4039d1ae179126f0671af436f4
DTSTAMP:20260419T135418Z
SUMMARY:Beckerman JFS: 'Beneath the Helmet: From High School to the Home Fr
 ont'
DESCRIPTION:Jewish Federation of Greater New Haven\nCommunity Calendar\nhtt
 ps://jewishnewhaven.org/eventlist/beckerman-jfs-beneath-the-helmet-from-hi
 gh-school-to-the-home-front-1487878541-223242\n\nA coming-of-age story whi
 ch follows the journey of five Israeli high school graduates who are draft
 ed into the army to defend their country. At the age of 18\, away from the
 ir homes\, families and friends these young individuals undergo a demandin
 g\, inspiring journey\, revealing the core of who they are and who they wa
 nt to be. FREE event and open to the community.
DTSTART;TZID=America/New_York:20170430T183000
DTEND;TZID=America/New_York:20170430T203000
END:VEVENT
END:VCALENDAR
