BEGIN:VCALENDAR
PRODID:-//eluceo/ical//2.0/EN
VERSION:2.0
CALSCALE:GREGORIAN
BEGIN:VEVENT
UID:f6f12c122529bc366f20677b261e18fd
DTSTAMP:20260420T025136Z
SUMMARY:BEKI Annual Sukkah Hop
DESCRIPTION:Jewish Federation of Greater New Haven\nCommunity Calendar\nhtt
 ps://jewishnewhaven.org/eventlist/beki-annual-sukkah-hop-2025\n\n"Hop till
  you drop" at our annual Sukkah Hop. This progressive party will depart BE
 KI at 12 noon\, after festival services\, with the last visit ending aroun
 d 3 pm. The party progresses from sukkah to sukkah through the lower Westv
 ille neighborhood\, with each host family sharing their sukkah and some re
 freshments with our community. If you are not a BEKI member but want to pa
 rticipate\, email office@beki.org to make a reservation and learn details.
DTSTART;TZID=America/New_York:20251007T120000
DTEND;TZID=America/New_York:20251007T150000
END:VEVENT
END:VCALENDAR
