BEGIN:VCALENDAR
PRODID:-//eluceo/ical//2.0/EN
VERSION:2.0
CALSCALE:GREGORIAN
BEGIN:VEVENT
UID:1d76ca4f9b711959199e0841f0163b5d
DTSTAMP:20260420T142531Z
SUMMARY:BEKI Apizza  in the Sukkah
DESCRIPTION:Jewish Federation of Greater New Haven\nCommunity Calendar\nhtt
 ps://jewishnewhaven.org/eventlist/beki-apizza-in-the-sukkah-2025\n\nBEKI's
  annual pizza party in the sukkah will be Sunday Oct. 12 at noon\, afte
 r religious school. Join us in the BEKI courtyard sukkah for a vegetarian 
 pizza lunch prepared by BEKI chefs.\n\nThe menu also includes salad\, beve
 rages\, and dessert. If you request them\, non-dairy and gluten free pies 
 will be available. Bring your own beer or kosher wine. In case of rain\, 
 the event will move inside. \n\nRESERVATIONS ARE REQUIRED by Thursday\,
  Oct. 9: $10/adults\, $5/child under 12\, $30/househol...
DTSTART;TZID=America/New_York:20251012T120000
DTEND;TZID=America/New_York:20251012T140000
END:VEVENT
END:VCALENDAR
