BEGIN:VCALENDAR
PRODID:-//eluceo/ical//2.0/EN
VERSION:2.0
CALSCALE:GREGORIAN
BEGIN:VEVENT
UID:a550a9d90f8e3bbc074c57e425eb017a
DTSTAMP:20260419T121636Z
SUMMARY:BEKI Daily Service via Zoom
DESCRIPTION:Jewish Federation of Greater New Haven\nCommunity Calendar\nhtt
 ps://jewishnewhaven.org/eventlist/beki-april23-service-via-zoom\n\n \n\n
  \n\nAnyone wishing to participate in BEKI daily minyanim via Zoom should
  email Ritual Committee Chair Rachel Wiseman Gerber at bekitefilla@gmail.c
 om to request a Zoom invitation. The daily minyan\, led by BEKI volunteer
 s\, also includes time to check in with one another and offer support. For
  updates on when services will resume in the building\, check www.beki.or
 g.
DTSTART;TZID=America/New_York:20200423T081500
DTEND;TZID=America/New_York:20200423T084500
END:VEVENT
END:VCALENDAR
