BEGIN:VCALENDAR
PRODID:-//eluceo/ical//2.0/EN
VERSION:2.0
CALSCALE:GREGORIAN
BEGIN:VEVENT
UID:cb0ba826738c10840ceb314324cdbef8
DTSTAMP:20260419T121518Z
SUMMARY:BEKI Board meets
DESCRIPTION:Jewish Federation of Greater New Haven\nCommunity Calendar\nhtt
 ps://jewishnewhaven.org/eventlist/beki-board-meets-apr11\n\nApril 11\, 202
 2
DTSTART;TZID=America/New_York:20220411T190000
DTEND;TZID=America/New_York:20220411T210000
END:VEVENT
END:VCALENDAR
