BEGIN:VCALENDAR
PRODID:-//eluceo/ical//2.0/EN
VERSION:2.0
CALSCALE:GREGORIAN
BEGIN:VEVENT
UID:0d541d855d077e7a01353be1379c33c8
DTSTAMP:20260421T092039Z
SUMMARY:BEKI Board Meeting NEW DATE
DESCRIPTION:Jewish Federation of Greater New Haven\nCommunity Calendar\nhtt
 ps://jewishnewhaven.org/eventlist/beki-board-meets-jan11rev\n\nBEKI Full B
 oard meets -- date switch
DTSTART;TZID=America/New_York:20210111T190000
DTEND;TZID=America/New_York:20210111T210000
END:VEVENT
END:VCALENDAR
