BEGIN:VCALENDAR
PRODID:-//eluceo/ical//2.0/EN
VERSION:2.0
CALSCALE:GREGORIAN
BEGIN:VEVENT
UID:02b776d99bc30b04d2f0bda7a3377c1f
DTSTAMP:20260421T135847Z
SUMMARY:BEKI Children's Shabbat Services
DESCRIPTION:Jewish Federation of Greater New Haven\nCommunity Calendar\nhtt
 ps://jewishnewhaven.org/eventlist/beki-childrens-shabbat-services-april22\
 n\nAll of BEKI's children's services—Children's Havura\, K-2 Kehila\, an
 d Junior Congregation—meet on Shabbat morning and end just in time for
  indoor kiddush lunch with the whole congregation. \n\nIf you have questi
 ons about activities for children and families\, contact Annie Norman-Sc
 hiff\, Education Director\, at anormanschiff@beki.org\, 860-502-5337.
DTSTART;TZID=America/New_York:20230422T110000
DTEND;TZID=America/New_York:20230422T120000
END:VEVENT
END:VCALENDAR
