BEGIN:VCALENDAR
PRODID:-//eluceo/ical//2.0/EN
VERSION:2.0
CALSCALE:GREGORIAN
BEGIN:VEVENT
UID:a59921305d9a2c3a9e3e471974851a24
DTSTAMP:20260420T074627Z
SUMMARY:BEKI Children's Shabbat Services
DESCRIPTION:Jewish Federation of Greater New Haven\nCommunity Calendar\nhtt
 ps://jewishnewhaven.org/eventlist/beki-childrens-shabbat-services-oct11\n\
 nAll of BEKI's children's services—Children's Havura (from newborn throu
 gh preschool)\, K-2 Kehila\, and Junior Congregation—meet on Shabbat mo
 rning and end just in time for final songs and kiddush lunch with the who
 le congregation. All programs are led by our parent and grandparent volunt
 eers. New families always are welcome.\n\nIf you have questions about acti
 vities for children and families\, contact Annie Norman-Schiff\, Educat
 ion Director\, at anormanschiff@beki.org\, 860-502-5337.
DTSTART;TZID=America/New_York:20251011T110000
DTEND;TZID=America/New_York:20251011T120000
END:VEVENT
END:VCALENDAR
