BEGIN:VCALENDAR
PRODID:-//eluceo/ical//2.0/EN
VERSION:2.0
CALSCALE:GREGORIAN
BEGIN:VEVENT
UID:1d73a1b2ea92df9f8bbdcd1114d7784f
DTSTAMP:20260419T150601Z
SUMMARY:BEKI Children's Shabbat Services
DESCRIPTION:Jewish Federation of Greater New Haven\nCommunity Calendar\nhtt
 ps://jewishnewhaven.org/eventlist/beki-childrens-shabbat-services-sept14\n
 \nAll of BEKI's children's services—Children's Havura (from newborn thro
 ugh preschool)\, K-2 Kehila\, and Junior Congregation—meet on Shabbat m
 orning and end just in time for final songs and kiddush lunch with the wh
 ole congregation. All programs are led by our parent and grandparent volun
 teers. New families always are welcome.\n\nIf you have questions about act
 ivities for children and families\, contact Annie Norman-Schiff\, Educa
 tion Director\, at anormanschiff@beki.org\, 860-502-5337.
DTSTART;TZID=America/New_York:20240914T110000
DTEND;TZID=America/New_York:20240914T120000
END:VEVENT
END:VCALENDAR
