BEGIN:VCALENDAR
PRODID:-//eluceo/ical//2.0/EN
VERSION:2.0
CALSCALE:GREGORIAN
BEGIN:VEVENT
UID:85cf8387063e1ae08d3ad922f61142d3
DTSTAMP:20260421T093115Z
SUMMARY:BEKI Hosts USY Havdalah and Hanukkah Lounge Night
DESCRIPTION:Jewish Federation of Greater New Haven\nCommunity Calendar\nhtt
 ps://jewishnewhaven.org/eventlist/beki-hosts-usy-havdalah-and-hanukkah-lou
 nge-night-dec2025\n\nUSY Havdalah and Hanukkah Lounge Night (Grades 7-12)\
 n\nFor more information about this event\, or BEKI's tween and children's 
 Hanukkah events\, contact Annie Norman-Schiff\, Education Director\, at
  anormanschiff@beki.org\, 860-502-5337.
DTSTART;TZID=America/New_York:20251220T173000
DTEND;TZID=America/New_York:20251220T190000
END:VEVENT
END:VCALENDAR
