BEGIN:VCALENDAR
PRODID:-//eluceo/ical//2.0/EN
VERSION:2.0
CALSCALE:GREGORIAN
BEGIN:VEVENT
UID:706ba7c062607be28bea12567042a6ed
DTSTAMP:20260419T124946Z
SUMMARY:BEKI Kabbalat Shabbat in Courtyard & via Zoom
DESCRIPTION:Jewish Federation of Greater New Haven\nCommunity Calendar\nhtt
 ps://jewishnewhaven.org/eventlist/beki-kabbalat-shabbat-in-courtyard-via-z
 oom-sept4\n\nPlanning to attend\, or want info? Contact bekietefilla@gmai
 l.com or jjtilsen@beki.org\n\nIn-person participants must comply with pu
 blic health protocols including masks and six foot distancing. RSVP prefe
 rred to facilitate contact tracing\, if necessary.  Prayer books and chai
 rs provided or bring your own.  Washrooms available.\n\nSince any group g
 athering has inherent risks\, participants need to make their own informed
  choices as to what is best for them.\n\n \n\nOutdoor Services (weat...
DTSTART;TZID=America/New_York:20200904T180000
DTEND;TZID=America/New_York:20200904T190000
END:VEVENT
END:VCALENDAR
