BEGIN:VCALENDAR
PRODID:-//eluceo/ical//2.0/EN
VERSION:2.0
CALSCALE:GREGORIAN
BEGIN:VEVENT
UID:b519d3a93173cdcb8b166efc30a4b252
DTSTAMP:20260420T115531Z
SUMMARY:BEKI Kadima Youth Group to Adventure Park
DESCRIPTION:Jewish Federation of Greater New Haven\nCommunity Calendar\nhtt
 ps://jewishnewhaven.org/eventlist/beki-kadima-youth-group-to-adventure-par
 k-rev\n\nBEKI's Kadima youth group (for grades 4-8) is going climbing at t
 he Adventure Park at the Discovery Museum in Bridgeport! Explore the park'
 s aerial trails on rope bridges and zip lines. This is an outdoor activity
  where all staff and patrons will be wearing masks (more information avail
 able at http://myadventurepark.com/health-and-safety-information/). Subsid
 ized tickets are $10 per child. RSVP to Youth & Family Programming Directo
 r Annie Norman-Schiff at anormanschiff@beki.org.
DTSTART;TZID=America/New_York:20210411T150000
DTEND;TZID=America/New_York:20210411T180000
END:VEVENT
END:VCALENDAR
