BEGIN:VCALENDAR
PRODID:-//eluceo/ical//2.0/EN
VERSION:2.0
CALSCALE:GREGORIAN
BEGIN:VEVENT
UID:c937a0f1913588ffda19d964f31d2c3f
DTSTAMP:20260419T190404Z
SUMMARY:BEKI reopening emotional processing groups
DESCRIPTION:Jewish Federation of Greater New Haven\nCommunity Calendar\nhtt
 ps://jewishnewhaven.org/eventlist/beki-reopening-emotional-processing-grou
 ps-apr-23\n\nOur Hopes and Fears\n\nWe’re told that when we walk into a 
 synagogue\, we should say\, “Mah Tovu” – how beautiful! But the real
 ity is\, returning to “a new normal” isn’t so simple. The return to 
 communal spaces brings a lot of mixed emotions. Join BEKI's new rabbi\, Er
 ic Woodward\, at one of two “reopening emotional processing” groups. T
 o be accessible for all\, one group will meet in person\, and one group wi
 ll meet over Zoom. (The content of the meetings will be the same.) We’l.
 ..
DTSTART;TZID=America/New_York:20210823T193000
DTEND;TZID=America/New_York:20210823T210000
END:VEVENT
END:VCALENDAR
