BEGIN:VCALENDAR
PRODID:-//eluceo/ical//2.0/EN
VERSION:2.0
CALSCALE:GREGORIAN
BEGIN:VEVENT
UID:b11f59d426e145f63eebf29b2e5538f9
DTSTAMP:20260421T110546Z
SUMMARY:BEKI Shabbat In-Person Service
DESCRIPTION:Jewish Federation of Greater New Haven\nCommunity Calendar\nhtt
 ps://jewishnewhaven.org/eventlist/beki-shabbat-in-person-service-jun19-rev
 2\n\n \n\n \n\nFor more information: bekitefilla@gmail.com \n\nBEKI'S 
 WEEKLY SERVICES\n\nSunday 9:00 to 9:30 am (courtyard* & via Zoom) \nSund
 ay 5:45 pm (via Zoom) \nMonday 7:00 am (via Zoom) \nMonday 5:45 to 6:00 
 pm (sanctuary & via Zoom) \nTuesday 7:00 am (sanctuary & via Zoom) \nTue
 sday 5:45 pm (via Zoom) \nWednesday 7:00 am (via Zoom) \nWednesday 5:45 
 pm (sanctuary & via Zoom) \nThursday 8:15 am (sanctuary & via Zoom) \nTh
 ursday 5:45 pm (via Zoom) \nFriday 7:00 am (via Zoom) ...
DTSTART;TZID=America/New_York:20210619T091500
DTEND;TZID=America/New_York:20210619T120000
END:VEVENT
END:VCALENDAR
