BEGIN:VCALENDAR
PRODID:-//eluceo/ical//2.0/EN
VERSION:2.0
CALSCALE:GREGORIAN
BEGIN:VEVENT
UID:a1c6842943cefb7a25f428860c008c5c
DTSTAMP:20260421T105327Z
SUMMARY:BEKI Shabbat Outdoor Service
DESCRIPTION:Jewish Federation of Greater New Haven\nCommunity Calendar\nhtt
 ps://jewishnewhaven.org/eventlist/beki-shabbat-outdoor-service-feb6\n\nPla
 nning to attend\, or want info? Contact bekietefilla@gmail.com or jjtil
 sen@beki.org\n\nIn-person participants must comply with public health prot
 ocols including masks and six foot distancing. RSVP preferred to facilita
 te contact tracing\, if necessary.  Prayer books and chairs provided or b
 ring your own.  Washrooms available.\n\nSince any group gathering has inh
 erent risks\, participants need to make their own informed choices as to w
 hat is best for them.\n\n \n\nOutdoor Services (weat...
DTSTART;TZID=America/New_York:20210206T093000
DTEND;TZID=America/New_York:20210206T110000
END:VEVENT
END:VCALENDAR
