BEGIN:VCALENDAR
PRODID:-//eluceo/ical//2.0/EN
VERSION:2.0
CALSCALE:GREGORIAN
BEGIN:VEVENT
UID:fd3369748fb394ee52c9d605288b13cc
DTSTAMP:20260420T025146Z
SUMMARY:BEKI: Simchat Torah morning service
DESCRIPTION:Jewish Federation of Greater New Haven\nCommunity Calendar\nhtt
 ps://jewishnewhaven.org/eventlist/beki-simchat-torah-morning-service-2025\
 n\nTuesday\, Oct. 14 Shmini Atzeret\n\n9:15 am Shacharit\n\n10:30 am Yizko
 r\n\n6:30 pm Minchah\n\n6:45-8:30 pm Simchat Torah service and dancing\n\n
 Wednesday\, Oct. 15 Simchat Torah\n\n9:15 am Shacharit\n\n10 am Hakafot (p
 rocession & dancing)\n\nNo afternoon or evening services
DTSTART;TZID=America/New_York:20251015T091500
DTEND;TZID=America/New_York:20251015T120000
END:VEVENT
END:VCALENDAR
