BEGIN:VCALENDAR
PRODID:-//eluceo/ical//2.0/EN
VERSION:2.0
CALSCALE:GREGORIAN
BEGIN:VEVENT
UID:396c553be8f70e0285f6632991aace99
DTSTAMP:20260420T102526Z
SUMMARY:BEKI Talmud Study
DESCRIPTION:Jewish Federation of Greater New Haven\nCommunity Calendar\nhtt
 ps://jewishnewhaven.org/eventlist/beki-talmud-study-oct5\n\nBEKI Talmud St
 udy meets on select Sundays with Rabbi Eric Woodward\n\nHave you ever been
  interested in learning Talmud\, but unsure where to start? Or have you be
 en interested in learning more about Judaism and feel like getting into Je
 wish text? Or have you studied Talmud before\, and you’d like to do more
 ? All are welcome.\n\nWe are starting with a story near the end of what is
  known as Chapter 2 of Tractate Shabbat\, a story that involves drama\, my
 sticism\, and revolution against the Romans....
DTSTART;TZID=America/New_York:20251005T110000
DTEND;TZID=America/New_York:20251005T120000
END:VEVENT
END:VCALENDAR
