BEGIN:VCALENDAR
PRODID:-//eluceo/ical//2.0/EN
VERSION:2.0
CALSCALE:GREGORIAN
BEGIN:VEVENT
UID:0e2933ea623575c1d179b1bf0b02ad94
DTSTAMP:20260420T010751Z
SUMMARY:BEKI: Talmud Study with Rabbi Woodward
DESCRIPTION:Jewish Federation of Greater New Haven\nCommunity Calendar\nhtt
 ps://jewishnewhaven.org/eventlist/beki-talmud-study-with-rabbi-woodward-oc
 t26\n\nBEKI Talmud Study meets on select Sundays with Rabbi Eric Woodward.
 \n\nHave you ever been interested in learning Talmud\, but unsure where to
  start? Or have you been interested in learning more about Judaism and fee
 l like getting into Jewish text? Or have you studied Talmud before\, and y
 ou’d like to do more? All are welcome.\n\nWe are starting with a story n
 ear the end of what is known as Chapter 2 of Tractate Shabbat\, a story th
 at involves drama\, mysticism\, and revolution against the Romans...
DTSTART;TZID=America/New_York:20251026T110000
DTEND;TZID=America/New_York:20251026T120000
END:VEVENT
END:VCALENDAR
