BEGIN:VCALENDAR
PRODID:-//eluceo/ical//2.0/EN
VERSION:2.0
CALSCALE:GREGORIAN
BEGIN:VEVENT
UID:37ae4e676b17b1d12e3bec0fbbc14fb1
DTSTAMP:20260419T142618Z
SUMMARY:BEKI Tehillim-Psalms Study Group
DESCRIPTION:Jewish Federation of Greater New Haven\nCommunity Calendar\nhtt
 ps://jewishnewhaven.org/eventlist/beki-tehillim-psalms-study-group-dec22\n
 \nThroughout the generations\, Psalms have been recited in times of troubl
 e. Prof. Corinne Blackmer leads a weekly Psalms study group. We read the H
 ebrew original\, then the JPS English translation\, and then discuss. If y
 ou would like to join this Zoom meeting\, email bekitefilla@gmail.com.
DTSTART;TZID=America/New_York:20201222T200000
DTEND;TZID=America/New_York:20201222T210000
END:VEVENT
END:VCALENDAR
