BEGIN:VCALENDAR
PRODID:-//eluceo/ical//2.0/EN
VERSION:2.0
CALSCALE:GREGORIAN
BEGIN:VEVENT
UID:8ca666e06b6da09fd18dfbf2716c7af5
DTSTAMP:20260420T091109Z
SUMMARY:BEKI Yom Kippur Services
DESCRIPTION:Jewish Federation of Greater New Haven\nCommunity Calendar\nhtt
 ps://jewishnewhaven.org/eventlist/beki-yom-kippur-services-2025\n\nGuests 
 and visitors are most welcome. However\, advance arrangements are require
 d. Active-duty military and police personnel\, and full-time students\, ma
 y enter with valid official ID. Please contact our office 203.389.2108 x1
 14 office@beki.org for more information.\n\nYom Kippur Services\n\nThurs
 .\, Oct. 2\n\nYom Kippur service 9:00 am\nStudy Session I at 3 pm\nStudy S
 ession II at 4 pm\nMinchah 4:45 pm\n\nNeilah 6 pm\n\nMaariv & Havdalah 7:1
 2 pm\n\nYom Kippur Study Sessions\n\nAs is our tra...
DTSTART;TZID=America/New_York:20251002T090000
DTEND;TZID=America/New_York:20251002T191500
END:VEVENT
END:VCALENDAR
