BEGIN:VCALENDAR
PRODID:-//eluceo/ical//2.0/EN
VERSION:2.0
CALSCALE:GREGORIAN
BEGIN:VEVENT
UID:0eaa326c5b7b2303602852b62cf527be
DTSTAMP:20260420T115618Z
SUMMARY:Blessing of the Animals Congregation Or Shalom
DESCRIPTION:Jewish Federation of Greater New Haven\nCommunity Calendar\nhtt
 ps://jewishnewhaven.org/eventlist/blessing-of-the-animals-congregation-or-
 shalom-1759257283\n\nBlessing of the Animals:  All Creatures Great and Sma
 ll Are Welcome! Join Rabbi Lindsey for a joyful and heartwarming tradition
  as we celebrate the special bond between humans and their animal companio
 ns. Whether your companion is a dog\, cat\, rabbit\, turtle\, parrot\, or 
 goldfish\, come and give thanks for the joy they bring to your life! Octob
 er 19th at noon\, right after Hebrew School
DTSTART;TZID=America/New_York:20251019T120000
DTEND;TZID=America/New_York:20251019T123000
END:VEVENT
END:VCALENDAR
