BEGIN:VCALENDAR
PRODID:-//eluceo/ical//2.0/EN
VERSION:2.0
CALSCALE:GREGORIAN
BEGIN:VEVENT
UID:101e223568b21eb6cddaaf26a53629c8
DTSTAMP:20260419T122012Z
SUMMARY:Books & Bagels with Abigail Pogrebin
DESCRIPTION:Jewish Federation of Greater New Haven\nCommunity Calendar\nhtt
 ps://jewishnewhaven.org/eventlist/books--bagels-with-abigail-pogrebin-1487
 362288\n\nCongregation Beth Shalom Rodfe Zedek (Chester) welcomes author A
 bigail Pogrebin on Sunday\, March 5th to speak as a part of it's popular B
 ooks & Bagels series. Ms. Pogrebin spent an immersive year studying\, expe
 riencing and writing about every single Jewish holiday — including each 
 obscure festival and all six fasts–for the first time. Her lively\, pers
 onal\, deeply-researched book\, My Jewish Year: 18 Holidays\, One Wonderin
 g Jew\, chronicles what she discovered\, how it changed her\, and why sh..
 .
DTSTART;TZID=America/New_York:20170305T093000
DTEND;TZID=America/New_York:20170305T113000
END:VEVENT
END:VCALENDAR
