BEGIN:VCALENDAR
PRODID:-//eluceo/ical//2.0/EN
VERSION:2.0
CALSCALE:GREGORIAN
BEGIN:VEVENT
UID:fecd813d4e82b8c8e900f94db815cc76
DTSTAMP:20260419T133403Z
SUMMARY:Breakfast Book-Talk with Author Oren Kessler
DESCRIPTION:Jewish Federation of Greater New Haven\nCommunity Calendar\nhtt
 ps://jewishnewhaven.org/eventlist/breakfast-book-talk-with-author-oren-kes
 sler-1674683853\n\nJoin journalist Oren Kessler\, the author of the recent
 ly published book "Palestine 1936: The Great Revolt and the Roots of the M
 iddle East Conflict". Based on extensive archival research on three contin
 ents and in three languages\, Palestine 1936 is the origin story of the wo
 rld’s most intractable conflict\, but it is also more than that. In Oren
  Kessler’s engaging\, journalistic voice\, it reveals world-changing eve
 nts through extraordinary individuals on all sides: their loves and their 
 hat...
DTSTART;TZID=America/New_York:20230226T103000
DTEND;TZID=America/New_York:20230226T113000
END:VEVENT
END:VCALENDAR
