BEGIN:VCALENDAR
PRODID:-//eluceo/ical//2.0/EN
VERSION:2.0
CALSCALE:GREGORIAN
BEGIN:VEVENT
UID:4b6a61d4b4034f0a8df171be0288c623
DTSTAMP:20260420T101450Z
SUMMARY:Brunch and Learn with Tina Wasserman\, Scholar-in-Residence
DESCRIPTION:Jewish Federation of Greater New Haven\nCommunity Calendar\nhtt
 ps://jewishnewhaven.org/eventlist/brunch-and-learn-with-tina-wasserman-sch
 olar-in-residence-1480617971\n\nAward-winning chef\, teacher and best-sell
 ing cookbook author\, Tina Wasserman\, joins Congregation Beth Shalom Rodf
 e Zedek as it's 2016 Kutnick Scholar-in-Resident for the weekend. The publ
 ic is invited to join CBSRZ members and Tina Wasserman as a Brunch and Lea
 rn session on Saturday\, December 17th\, beginning at 11\;00 am. Ms. Wasse
 rman will give a presentation on Jewish food as it developed throughout ti
 me and space and attendees will simultaneously learn about\, and yes\, con
 sume Jewish culinary ...
DTSTART;TZID=America/New_York:20161217T110000
DTEND;TZID=America/New_York:20161217T130000
END:VEVENT
END:VCALENDAR
