BEGIN:VCALENDAR
PRODID:-//eluceo/ical//2.0/EN
VERSION:2.0
CALSCALE:GREGORIAN
BEGIN:VEVENT
UID:dfd6e831af3c68f77cafc4c59716ad4a
DTSTAMP:20260420T115520Z
SUMMARY:Cabinet Meeting - Women's Engagement & Philanthropy
DESCRIPTION:Jewish Federation of Greater New Haven\nCommunity Calendar\nhtt
 ps://jewishnewhaven.org/eventlist/cabinet-meeting-womens-engagement-philan
 thropy\n\nThis meeting is open to both experienced Cabinet members as well
  as potential new members. We hope you will attend - there is no long-term
  commitment unless you want one.\n\nCome check us out because WE ARE MORE 
 THAN YOU THINK!\n\nFirst time attending - please reach out to Jess Wallace
  (jwallace@jewishnewhaven.org) for more information
DTSTART;TZID=America/New_York:20251218T123000
DTEND;TZID=America/New_York:20251218T140000
END:VEVENT
END:VCALENDAR
