BEGIN:VCALENDAR
PRODID:-//eluceo/ical//2.0/EN
VERSION:2.0
CALSCALE:GREGORIAN
BEGIN:VEVENT
UID:208ec18699ad94d84077ae4a52b8247c
DTSTAMP:20260419T145417Z
SUMMARY:Camp Young Judaea Midwest 50th Anniversary Celebration
DESCRIPTION:Jewish Federation of Greater New Haven\nCommunity Calendar\nhtt
 ps://jewishnewhaven.org/eventlist/camp-young-judaea-midwest-50th-anniversa
 ry-celebration-1580230072\n\nhttps://www.cyjmid.org/50th-anniversary-celeb
 ration/
DTSTART;TZID=America/New_York:20200524T190000
DTEND;TZID=America/New_York:20200524T220000
END:VEVENT
END:VCALENDAR
