BEGIN:VCALENDAR
PRODID:-//eluceo/ical//2.0/EN
VERSION:2.0
CALSCALE:GREGORIAN
BEGIN:VEVENT
UID:9772958aac28bb55cc39a430435f7a10
DTSTAMP:20260421T081646Z
SUMMARY:CBJ Kids: Purim Shpiel & Carnival Extraordinaire
DESCRIPTION:Jewish Federation of Greater New Haven\nCommunity Calendar\nhtt
 ps://jewishnewhaven.org/eventlist/cbj-kids-purim-shpiel--carnival-extraord
 inaire-1740065187\n\nGet ready for a morning of joy\, laughter\, and celeb
 ration at Purim Shpiel & Carnival Extraordinaire!9:30 AM – Shpiel Watch 
 as our talented Yahad students bring the story of Esther to life in a fun 
 and engaging Purim Shpiel!10:15 AM – Costume Parade & Carnival Fun Come 
 dressed in your favorite costume and join our Costume Parade\, followed by
  an exciting Purim Carnival featuring games\, food\, treats\, inflatables\
 , crafts & activities for the whole family!Don’t miss this festive and f
 amily-f...
DTSTART;TZID=America/New_York:20250316T091500
DTEND;TZID=America/New_York:20250316T120000
END:VEVENT
END:VCALENDAR
