BEGIN:VCALENDAR
PRODID:-//eluceo/ical//2.0/EN
VERSION:2.0
CALSCALE:GREGORIAN
BEGIN:VEVENT
UID:a1d16700fa4cc8009fb02a08c4d4eb87
DTSTAMP:20260421T093205Z
SUMMARY:Cemetery Clean up with Hebrew Burial and Free Loan - Yale Day of Se
 rvice
DESCRIPTION:Jewish Federation of Greater New Haven\nCommunity Calendar\nhtt
 ps://jewishnewhaven.org/eventlist/cemetery-clean-up-with-hebrew-burial-and
 -free-loan---yale-day-of-service-1550673674-302316\n\n3rd Annual Clean up 
 of Hebrew Burial & Free Loan Cemetery for the Yale Day of Service at 1 Bro
 ckett Place in East Haven on Sunday\, May 19\, from 11 - 3pm. No Yale affi
 liation required. 
DTSTART;TZID=America/New_York:20190519T110000
DTEND;TZID=America/New_York:20190519T150000
END:VEVENT
END:VCALENDAR
