BEGIN:VCALENDAR
PRODID:-//eluceo/ical//2.0/EN
VERSION:2.0
CALSCALE:GREGORIAN
BEGIN:VEVENT
UID:4d30901454764f7f9d7421210300c690
DTSTAMP:20260420T032420Z
SUMMARY:Clergy Panel
DESCRIPTION:Jewish Federation of Greater New Haven\nCommunity Calendar\nhtt
 ps://jewishnewhaven.org/eventlist/clergy-panel-1758030636\n\nCongregations
  of Orange Collaborative (COC) is pleased to announce a panel discussion e
 ntitled: “Do Politics Belong on the Pulpit?” The event will be held on
  Sunday\, October 19th\, 4-5:30 pm at St. Barbara Greek Orthodox Church\, 
 480 Racebrook Road\, Orange. \n\nPanelists will include:\nRabbi Lindsey He
 aley-Pollack of Congregation Or-Shalom\nImam Endrit Himaj\, Albanian Ameri
 can Muslim Community\nDeacon John Hoffman\, St. Mary Catholic Church\nFath
 er Peter Orfanakos\, St. Barbara Greek...
DTSTART;TZID=America/New_York:20251019T160000
DTEND;TZID=America/New_York:20251019T173000
END:VEVENT
END:VCALENDAR
