BEGIN:VCALENDAR
PRODID:-//eluceo/ical//2.0/EN
VERSION:2.0
CALSCALE:GREGORIAN
BEGIN:VEVENT
UID:f460a5a2645b1b56e0eb455ca6f5a9b3
DTSTAMP:20260420T010304Z
SUMMARY:CMI 2025 Community Chanukah Dinner & Service
DESCRIPTION:Jewish Federation of Greater New Haven\nCommunity Calendar\nhtt
 ps://jewishnewhaven.org/eventlist/cmi-2025-community-chanukah-dinner--serv
 ice-1764104383\n\nCelebrate Chanukah with CMIThe celebration begins with T
 ot Shabbat at 5:30 p.m. We then invite those families as well as ALL congr
 egants to join us for our Chanukah Community Dinner at 6:00 p.m. To end th
 e evening of celebration\, join Rabbi Schaefer\, Cantor Fox\, Pk - 2nd gra
 de religious school students\, the Oy Street Band and the Jr. Choir for ou
 r beautiful Chanukah Service at 7:00 p.m. As always\, we invite you to bri
 ng a menorah and candles to help light up the night! · 5:30 p.m. – Tot 
 Sh...
DTSTART;TZID=America/New_York:20251219T180000
DTEND;TZID=America/New_York:20251219T200000
END:VEVENT
END:VCALENDAR
