BEGIN:VCALENDAR
PRODID:-//eluceo/ical//2.0/EN
VERSION:2.0
CALSCALE:GREGORIAN
BEGIN:VEVENT
UID:2c011e02eb268e4f91383b6771455283
DTSTAMP:20260422T054622Z
SUMMARY:Columbus Day School Vacation Program
DESCRIPTION:Jewish Federation of Greater New Haven\nCommunity Calendar\nhtt
 ps://jewishnewhaven.org/eventlist/columbus-day-school-vacation-program-202
 340\n\nFull day School Vacation Program for children in grades K-8.\n\nThe
  day includes a kosher peanut free morning and afternoon snack\, swimming\
 , indoor/outdoor time\, playscape\, arts and crafts\, cooking and much m
 ore!\n\nFull day: 9 a.m.-4 p.m. - Extended care available. Call (203) 387
 -2424 x250 
DTSTART;TZID=America/New_York:20161010T090000
DTEND;TZID=America/New_York:20161010T160000
END:VEVENT
END:VCALENDAR
