BEGIN:VCALENDAR
PRODID:-//eluceo/ical//2.0/EN
VERSION:2.0
CALSCALE:GREGORIAN
BEGIN:VEVENT
UID:b320eb1c4c06ef224762179e21d78b66
DTSTAMP:20260421T081656Z
SUMMARY:Congregation Mishkan Israel Annual Interfaith Martin Luther King Se
 rvice
DESCRIPTION:Jewish Federation of Greater New Haven\nCommunity Calendar\nhtt
 ps://jewishnewhaven.org/eventlist/congregation-mishkan-israel-annual-inter
 faith-martin-luther-king-service-1478546056\n\nCongregation Mishkan Israel
 ’s annual Rev. Dr. Martin Luther King\, Jr. Service will be on Friday ev
 ening\, January 13 at 7:30 p.m.  The guest speaker is Stephen Bright\, Ste
 phen B. Bright has been fellow or visiting lecturer in law since 1993. He 
 is also president and senior counsel at the Southern Center for Human Righ
 ts\, a human rights organization that deals with human rights in the crimi
 nal justice and prison systems. Beginning in the 1970’s\, the Congregati
 on began to pay tribute for Dr....
DTSTART;TZID=America/New_York:20170113T193000
DTEND;TZID=America/New_York:20170113T203000
END:VEVENT
END:VCALENDAR
