BEGIN:VCALENDAR
PRODID:-//eluceo/ical//2.0/EN
VERSION:2.0
CALSCALE:GREGORIAN
BEGIN:VEVENT
UID:b838b8b96f9ccb67726e7f74c9605546
DTSTAMP:20260419T134401Z
SUMMARY:Congregation Or Shalom 29th Annual Golf Tournament
DESCRIPTION:Jewish Federation of Greater New Haven\nCommunity Calendar\nhtt
 ps://jewishnewhaven.org/eventlist/congregation-or-shalom-29th-annual-golf-
 tournament-1683572191\n\nAnnual Golf Tournament\, August 21\, 2023.   Get 
 ready to tee off and have a great time! Annual Golf Tournament. 18 holes @
  Black Hawk\, a private club in Stratford.  More information to come about
  registration and being a sponsor.  Vistit our website to register or call
  the office. 203.799.2341
DTSTART;TZID=America/New_York:20230821T080000
DTEND;TZID=America/New_York:20230821T150000
END:VEVENT
END:VCALENDAR
