BEGIN:VCALENDAR
PRODID:-//eluceo/ical//2.0/EN
VERSION:2.0
CALSCALE:GREGORIAN
BEGIN:VEVENT
UID:937d0af17c735706efc7204b6e3b61b6
DTSTAMP:20260419T190108Z
SUMMARY:Cookie Creations
DESCRIPTION:Jewish Federation of Greater New Haven\nCommunity Calendar\nhtt
 ps://jewishnewhaven.org/eventlist/cookie-creations-1548272283-299814\n\nCo
 me decorate cookies with your family!
DTSTART;TZID=America/New_York:20190228T160000
DTEND;TZID=America/New_York:20190228T170000
END:VEVENT
END:VCALENDAR
