BEGIN:VCALENDAR
PRODID:-//eluceo/ical//2.0/EN
VERSION:2.0
CALSCALE:GREGORIAN
BEGIN:VEVENT
UID:647ab772c01c931506de330935787aba
DTSTAMP:20260421T121902Z
SUMMARY:COS 31st Annual Golf Tournament
DESCRIPTION:Jewish Federation of Greater New Haven\nCommunity Calendar\nhtt
 ps://jewishnewhaven.org/eventlist/cos-31st-annual-golf-tournament-17398899
 50\n\nJoin us for a great day of golf at the private course at  Black Hawk
  Country Club.  Breakfast\, lunch and swag bag included.  All are welcome 
 to register.
DTSTART;TZID=America/New_York:20250804T080000
DTEND;TZID=America/New_York:20250804T150000
END:VEVENT
END:VCALENDAR
