BEGIN:VCALENDAR
PRODID:-//eluceo/ical//2.0/EN
VERSION:2.0
CALSCALE:GREGORIAN
BEGIN:VEVENT
UID:dbd1e6deef9446971dd7f0875075eb65
DTSTAMP:20260421T093056Z
SUMMARY:Create a Jewish Legacy Workshop
DESCRIPTION:Jewish Federation of Greater New Haven\nCommunity Calendar\nhtt
 ps://jewishnewhaven.org/eventlist/create-a-jewish-legacy-workshop-17346371
 24\n\nCreate a Jewish Legacy Greater New Haven Year 3 Workshop
DTSTART;TZID=America/New_York:20250203T190000
DTEND;TZID=America/New_York:20250203T203000
END:VEVENT
END:VCALENDAR
