BEGIN:VCALENDAR
PRODID:-//eluceo/ical//2.0/EN
VERSION:2.0
CALSCALE:GREGORIAN
BEGIN:VEVENT
UID:32627b857d8580396187c39a8f572a2c
DTSTAMP:20260421T182420Z
SUMMARY:Critical Race Theory: What it is — What it is NOT
DESCRIPTION:Jewish Federation of Greater New Haven\nCommunity Calendar\nhtt
 ps://jewishnewhaven.org/eventlist/critical-race-theory-what-it-is-what-it-
 is-not\n\nThe Greater New Haven NAACP is hosting a Virtual Panel Discuss
 ion: CRITICAL RACE THEORY: What it is – What it is NOT…\n\n \n\nPan
 elists:        \n\n1. Retired Judge Angela Robinson (Quinnipiac Sc
 hool of Law)\n\n2. Professor Nadiyah Humber (UConn School of Law)\n\n3. 
 State Representative Bobby Gibson (CT State House of Representatives)\n\
 n4. Ingrid Canady\, Executive Director of the State Education Resource C
 enter (SERC)\n\nModerator:      Dr. Benjamin Foster\, Jr.\, ...
DTSTART;TZID=America/New_York:20211207T190000
DTEND;TZID=America/New_York:20211207T200000
END:VEVENT
END:VCALENDAR
